BEGIN:VCALENDAR
VERSION:2.0
PRODID:-//Data Matters Privacy Blog - ECPv6.15.20//NONSGML v1.0//EN
CALSCALE:GREGORIAN
METHOD:PUBLISH
X-WR-CALNAME:Data Matters Privacy Blog
X-ORIGINAL-URL:https://datamatters.sidley.com
X-WR-CALDESC:Events for Data Matters Privacy Blog
REFRESH-INTERVAL;VALUE=DURATION:PT1H
X-Robots-Tag:noindex
X-PUBLISHED-TTL:PT1H
BEGIN:VTIMEZONE
TZID:America/New_York
BEGIN:DAYLIGHT
TZOFFSETFROM:-0500
TZOFFSETTO:-0400
TZNAME:EDT
DTSTART:20230312T070000
END:DAYLIGHT
BEGIN:STANDARD
TZOFFSETFROM:-0400
TZOFFSETTO:-0500
TZNAME:EST
DTSTART:20231105T060000
END:STANDARD
BEGIN:DAYLIGHT
TZOFFSETFROM:-0500
TZOFFSETTO:-0400
TZNAME:EDT
DTSTART:20240310T070000
END:DAYLIGHT
BEGIN:STANDARD
TZOFFSETFROM:-0400
TZOFFSETTO:-0500
TZNAME:EST
DTSTART:20241103T060000
END:STANDARD
BEGIN:DAYLIGHT
TZOFFSETFROM:-0500
TZOFFSETTO:-0400
TZNAME:EDT
DTSTART:20250309T070000
END:DAYLIGHT
BEGIN:STANDARD
TZOFFSETFROM:-0400
TZOFFSETTO:-0500
TZNAME:EST
DTSTART:20251102T060000
END:STANDARD
END:VTIMEZONE
BEGIN:VTIMEZONE
TZID:America/Chicago
BEGIN:DAYLIGHT
TZOFFSETFROM:-0600
TZOFFSETTO:-0500
TZNAME:CDT
DTSTART:20230312T080000
END:DAYLIGHT
BEGIN:STANDARD
TZOFFSETFROM:-0500
TZOFFSETTO:-0600
TZNAME:CST
DTSTART:20231105T070000
END:STANDARD
BEGIN:DAYLIGHT
TZOFFSETFROM:-0600
TZOFFSETTO:-0500
TZNAME:CDT
DTSTART:20240310T080000
END:DAYLIGHT
BEGIN:STANDARD
TZOFFSETFROM:-0500
TZOFFSETTO:-0600
TZNAME:CST
DTSTART:20241103T070000
END:STANDARD
BEGIN:DAYLIGHT
TZOFFSETFROM:-0600
TZOFFSETTO:-0500
TZNAME:CDT
DTSTART:20250309T080000
END:DAYLIGHT
BEGIN:STANDARD
TZOFFSETFROM:-0500
TZOFFSETTO:-0600
TZNAME:CST
DTSTART:20251102T070000
END:STANDARD
END:VTIMEZONE
BEGIN:VEVENT
DTSTART;TZID=America/New_York:20240716T120000
DTEND;TZID=America/New_York:20240716T130000
DTSTAMP:20260422T075407
CREATED:20240529T170916Z
LAST-MODIFIED:20240529T173908Z
UID:7204-1721131200-1721134800@datamatters.sidley.com
SUMMARY:AI: Key Issues\, Challenges\, and Considerations In Global Antitrust and Government Strategies
DESCRIPTION:RSVP here. \n \nSPEAKERS\nJames W. Lowe\, Partner\, Sidley\nBenjamin R. Nagin\, Partner\, Sidley\nPatrick J. Harrison\, Partner\, Sidley\nMichael E. Borden\, Partner\, Sidley\nMonika Zdzieborska\, Senior Managing Associate\, Sidley
URL:https://datamatters.sidley.com/event/ai-key-issues-challenges-and-considerations-in-global-antitrust-and-government-strategies-transactions/
LOCATION:DC
END:VEVENT
BEGIN:VEVENT
DTSTART;VALUE=DATE:20240723
DTEND;VALUE=DATE:20240724
DTSTAMP:20260422T075407
CREATED:20240709T192609Z
LAST-MODIFIED:20240709T192953Z
UID:7267-1721692800-1721779199@datamatters.sidley.com
SUMMARY:New European Cyber Laws: What You Need to Know
DESCRIPTION:The EU has adopted several new Cyber Laws that will impact many businesses and will come into force over the next few months (in October in the case of Network and Information Security Directive (NISD2))\, but require immediate actions by businesses. \n\n\n \n\nWebinar  \n8:00 a.m. PST | 11:00 a.m. EST | 4:00 p.m. BST | 5:00 p.m. CET \nRSVP here. \nJoin Sidley and OneTrust DataGuidance for a webinar on the new EU Cyber Laws\, including: NISD2\, Digital Operational Resilience Act (DORA)\, Cyber Resilience Act (CRA)\, Critical Entities Resilience Act (CER)\, and the Cybsersecurity Directive. This discussion will provide you with the key information needed to determine which of these new EU Cyber Laws may apply to your business\, what your business is required to do\, and by when. These new EU Cyber Laws can impose new detailed cybersecurity obligations and\, in some cases\, registration requirements\, data incident reporting obligations of 24 hours\, fines of up to 2.5% of annual worldwide turnover\, and personal liability on senior management and legal representatives of the business. \nSpeakers: \n\nFrancesca Blythe\, Partner\, Privacy and Cybersecurity\, Sidley (London)\nWilliam RM Long\, Partner and Global Co-Leader\, Privacy and Cybersecurity\, Sidley (London)\n\nKey topics will include: \n\nWill our businesses be subject to the new EU Cyber Laws?\nWhat obligations will the new EU Cyber Laws impose on our businesses?\nHow will our data incident reporting obligations be impacted by these new EU Cyber Laws?\nWhat practical steps can our businesses take now to deal with these new EU Cyber Laws?\n\nFor more questions or information\, please click here to contact us.
URL:https://datamatters.sidley.com/event/new-european-cyber-laws-what-you-need-to-know/
LOCATION:DC
END:VEVENT
END:VCALENDAR